BEGIN:VCALENDAR
VERSION:2.0
PRODID:-//Tabernacle Baptist Church - ECPv5.0.0.2//NONSGML v1.0//EN
CALSCALE:GREGORIAN
METHOD:PUBLISH
X-WR-CALNAME:Tabernacle Baptist Church
X-ORIGINAL-URL:https://www.tbchp.org
X-WR-CALDESC:Events for Tabernacle Baptist Church
BEGIN:VTIMEZONE
TZID:America/Detroit
BEGIN:DAYLIGHT
TZOFFSETFROM:-0500
TZOFFSETTO:-0400
TZNAME:EDT
DTSTART:20260308T070000
END:DAYLIGHT
BEGIN:STANDARD
TZOFFSETFROM:-0400
TZOFFSETTO:-0500
TZNAME:EST
DTSTART:20261101T060000
END:STANDARD
END:VTIMEZONE
BEGIN:VEVENT
DTSTART;TZID=America/Detroit:20260401T190000
DTEND;TZID=America/Detroit:20260401T200000
DTSTAMP:20260421T232405
CREATED:20230107T195640Z
LAST-MODIFIED:20251203T193130Z
UID:316-1775070000-1775073600@www.tbchp.org
SUMMARY:Passion Week Service
DESCRIPTION:
URL:https://www.tbchp.org/event/passion-week-service/
END:VEVENT
END:VCALENDAR