BEGIN:VCALENDAR
VERSION:2.0
PRODID:-//Tabernacle Baptist Church - ECPv5.0.0.2//NONSGML v1.0//EN
CALSCALE:GREGORIAN
METHOD:PUBLISH
X-WR-CALNAME:Tabernacle Baptist Church
X-ORIGINAL-URL:https://www.tbchp.org
X-WR-CALDESC:Events for Tabernacle Baptist Church
BEGIN:VTIMEZONE
TZID:America/Detroit
BEGIN:DAYLIGHT
TZOFFSETFROM:-0500
TZOFFSETTO:-0400
TZNAME:EDT
DTSTART:20260308T070000
END:DAYLIGHT
BEGIN:STANDARD
TZOFFSETFROM:-0400
TZOFFSETTO:-0500
TZNAME:EST
DTSTART:20261101T060000
END:STANDARD
END:VTIMEZONE
BEGIN:VEVENT
DTSTART;TZID=America/Detroit:20260614T183000
DTEND;TZID=America/Detroit:20260614T200000
DTSTAMP:20260424T054534
CREATED:20230619T151705Z
LAST-MODIFIED:20260209T154423Z
UID:646-1781461800-1781467200@www.tbchp.org
SUMMARY:Vacation Bible School June 14-17th 6:30-8 pm
DESCRIPTION:Join us for Vacation Bible School as we see how the power of Jesus saves and rescues! \n
URL:https://www.tbchp.org/event/teen-yac-5/
END:VEVENT
END:VCALENDAR